BEGIN:VCALENDAR
PRODID;X-RICAL-TZSOURCE=TZINFO:-//com.denhaven2/NONSGML ri_cal gem//EN
CALSCALE:GREGORIAN
VERSION:2.0
BEGIN:VTIMEZONE
TZID;X-RICAL-TZSOURCE=TZINFO:Europe/Berlin
BEGIN:DAYLIGHT
DTSTART:20260329T020000
RDATE:20260329T020000
TZOFFSETFROM:+0100
TZOFFSETTO:+0200
TZNAME:CEST
END:DAYLIGHT
END:VTIMEZONE
BEGIN:VEVENT
DTEND;TZID=Europe/Berlin;VALUE=DATE-TIME:20260611T220000
DTSTART;TZID=Europe/Berlin;VALUE=DATE-TIME:20260611T140000
CATEGORIES:BUSINESS
DESCRIPTION: \n\n\n\n\n\n- Wo Sachsens Wirtschaft zusammenkommt\, sind au
 ch wir dabei für ein persönliches Treffen vor Ort - \nAm 11. Juni 2026 v
 ersammelt der Sommertreff im Lingnerschloss Dresden rund 400 Persönlichk
 eiten aus Unternehmensleitungen\, Unternehmertum sowie Politik und Verwa
 ltung – Menschen\, die Verantwortung tragen und Zukunft gestalten.\nIn e
 ntspannter Atmosphäre entsteht hier ein Raum für echten Austausch auf Au
 genhöhe. Gespräche\, die nicht bei Visitenkarten enden\, sondern Perspek
 tiven eröffnen\, Ideen verbinden und neue Impulse für den Hightech-Stand
 ort Sachsen setzen.\n14:00 Uhr Lingnerschloss Dresden - Sektempfang und 
 RegistrierungBesichtigung der Dachterrasse\n\n\n\n\n\n\n14:45 Uhr Beginn
 \n\n\n\n\n\n\nEröffnung\n\n\n\n\n\n\n\n* Vorstand RKW Sachsen e. V.\n* P
 rof. Dr. Martin Dix\, Präsident Industrieverein Sachsen 1828 e. V.\n* La
 rs Georgi\, Leiter Netzwerkmanagement VEMASinnovativ\n\n\n\n\n\n\n\nStat
 ement\n\n\n\n\n\n\n\n* Staatsminister Dirk Panter\, Sächsisches Staatsmi
 nisterium für Wirtschaft\, Arbeit\, Energie und Klimaschutz\n\nModeratio
 n: Dirk Vogel\, RKW Sachsen GmbH\n\n\n\n\n\n\n15:30 Uhr Besichtigungstou
 ren (zur Auswahl)komplett organisiert inkl. Transfer\n\n\n\n\n\n\n\n* KW
 D Karosseriewerke Dresden GmbH\n* Deutsche Werkstätten Hellerau\n* HZDR 
 Helmholtz-Zentrum Dresden-Rossendorf\n* Radeberger Exportbierbrauerei\n*
  Architekturführung im Militärhistorischen Museum\n* Schloss Albrechtsbe
 rg\n* Sächsischer Landtag\n* Stadtrundfahrt / Rundgang\n\n\n\n\n\n\n\n\n
 \n\n\n\n\nca. 18:00 Uhr Treffpunkt Lingnerschloss\n\n\n\n\n\n\nEntspannt
 es Beisammensein mit\n\n\n\n\n\n\n\n* kulinarischen Köstlichkeiten\n* ja
 zzigen Klängen\n* Gesprächen in angenehmer Atmosphäre\n\n\n\n\n\n\n\npar
 allel Ausstellung\n\n\n\n\n\n\nPräsentation von Initiativen\, Bündnissen
  und Unternehmen in einer Begleitausstellung:\n\n* Götz Günther GmbH IT 
 Service\n* MTM Solutions GmbH\n* Auktion &amp\; Markt AG\n\nweitere folg
 en\n\n\n\n\n\n\nab 22:00 Uhr Veranstaltungsausklang\n\n\n\n\n\n\n\n\n\n\
 n\n 
URL:https://www.empfehlungsbund.de/events/148
SUMMARY:Der Empfehlungsbund vor Ort:  Sommertreff der sächsischen Wirtsch
 aft 2026
ORGANIZER;CN=Lingnerschloss Dresden / Empfehlungsbund.de:https://www.empf
 ehlungsbund.de/events/148
ATTACH:https://www.empfehlungsbund.de/events/148
LOCATION:Lingnerschloss Dresden
X-ALT-DESC:<!DOCTYPE HTML><HTML><BODY> <section class="elementor-section
  elementor-top-section elementor-element elementor-element-ae8b2b7 eleme
 ntor-section-boxed elementor-section-height-default elementor-section-he
 ight-default" data-id="ae8b2b7" data-element_type="section" data-setting
 s="{&quot;background_background&quot;:&quot;classic&quot;}"><div class="
 elementor-container elementor-column-gap-wider"><div class="elementor-co
 lumn elementor-col-50 elementor-top-column elementor-element elementor-e
 lement-4d3348f" data-id="4d3348f" data-element_type="column" data-settin
 gs="{&quot;background_background&quot;:&quot;classic&quot;}"><div class=
 "elementor-widget-wrap elementor-element-populated"><div class="elemento
 r-element elementor-element-0b101f5 elementor-widget elementor-widget-he
 ading" data-id="0b101f5" data-element_type="widget" data-widget_type="he
 ading.default"><div class="elementor-widget-container"><h4 class="elemen
 tor-heading-title elementor-size-default">- Wo Sachsens Wirtschaft zusam
 menkommt, sind auch wir dabei f&uuml;r ein pers&ouml;nliches Treffen vor
  Ort -&nbsp;</h4><h4 class="elementor-heading-title elementor-size-defau
 lt">Am 11. Juni 2026 versammelt der Sommertreff im Lingnerschloss Dresde
 n rund 400 Pers&ouml;nlichkeiten aus Unternehmensleitungen, Unternehmert
 um sowie Politik und Verwaltung &ndash; Menschen, die Verantwortung trag
 en und Zukunft gestalten.</h4><p>In entspannter Atmosph&auml;re entsteht
  hier ein Raum f&uuml;r echten Austausch auf Augenh&ouml;he. Gespr&auml;
 che, die nicht bei Visitenkarten enden, sondern Perspektiven er&ouml;ffn
 en, Ideen verbinden und neue Impulse f&uuml;r den Hightech-Standort Sach
 sen setzen.</p><h4 class="elementor-heading-title elementor-size-default
 ">14:00 Uhr Lingnerschloss Dresden - Sektempfang und Registrierung<br />
 Besichtigung der Dachterrasse</h4></div></div><div class="elementor-elem
 ent elementor-element-02c889b elementor-widget elementor-widget-heading"
  data-id="02c889b" data-element_type="widget" data-widget_type="heading.
 default"><div class="elementor-widget-container"><h4 class="elementor-he
 ading-title elementor-size-default">14:45 Uhr Beginn</h4></div></div><di
 v class="elementor-element elementor-element-9b116cc elementor-widget el
 ementor-widget-heading" data-id="9b116cc" data-element_type="widget" dat
 a-widget_type="heading.default"><div class="elementor-widget-container">
 <h6 class="elementor-heading-title elementor-size-default">Er&ouml;ffnun
 g</h6></div></div><div class="elementor-element elementor-element-360bb2
 4 elementor-widget elementor-widget-text-editor" data-id="360bb24" data-
 element_type="widget" data-widget_type="text-editor.default"><div class=
 "elementor-widget-container"><ul><li>Vorstand RKW Sachsen e. V.</li><li>
 <strong>Prof. Dr. Martin Dix</strong>, Pr&auml;sident Industrieverein Sa
 chsen 1828 e. V.</li><li><strong>Lars Georgi</strong>, Leiter Netzwerkma
 nagement VEMASinnovativ</li></ul></div></div><div class="elementor-eleme
 nt elementor-element-5fc8e38 elementor-widget elementor-widget-heading" 
 data-id="5fc8e38" data-element_type="widget" data-widget_type="heading.d
 efault"><div class="elementor-widget-container"><h6 class="elementor-hea
 ding-title elementor-size-default">Statement</h6></div></div><div class=
 "elementor-element elementor-element-58436c2 elementor-widget elementor-
 widget-text-editor" data-id="58436c2" data-element_type="widget" data-wi
 dget_type="text-editor.default"><div class="elementor-widget-container">
 <ul><li><strong>Staatsminister Dirk Panter,</strong> S&auml;chsisches St
 aatsministerium f&uuml;r Wirtschaft, Arbeit, Energie und Klimaschutz</li
 ></ul><p>Moderation: Dirk Vogel, RKW Sachsen GmbH</p></div></div><div cl
 ass="elementor-element elementor-element-d1bf2c2 elementor-widget elemen
 tor-widget-heading" data-id="d1bf2c2" data-element_type="widget" data-wi
 dget_type="heading.default"><div class="elementor-widget-container"><h4 
 class="elementor-heading-title elementor-size-default">15:30 Uhr Besicht
 igungstouren (zur Auswahl)<br />komplett organisiert inkl. Transfer</h4>
 </div></div><div class="elementor-element elementor-element-dba26b3 elem
 entor-widget elementor-widget-text-editor" data-id="dba26b3" data-elemen
 t_type="widget" data-widget_type="text-editor.default"><div class="eleme
 ntor-widget-container"><ul><li>KWD Karosseriewerke Dresden GmbH</li><li>
 Deutsche Werkst&auml;tten Hellerau</li><li>HZDR Helmholtz-Zentrum Dresde
 n-Rossendorf</li><li>Radeberger Exportbierbrauerei</li><li>Architekturf&
 uuml;hrung im Milit&auml;rhistorischen Museum</li><li>Schloss Albrechtsb
 erg</li><li>S&auml;chsischer Landtag</li><li>Stadtrundfahrt / Rundgang</
 li></ul></div></div></div></div><div class="elementor-column elementor-c
 ol-50 elementor-top-column elementor-element elementor-element-fa09029" 
 data-id="fa09029" data-element_type="column" data-settings="{&quot;backg
 round_background&quot;:&quot;classic&quot;}"><div class="elementor-widge
 t-wrap elementor-element-populated"><div class="elementor-element elemen
 tor-element-e27289f elementor-widget elementor-widget-heading" data-id="
 e27289f" data-element_type="widget" data-widget_type="heading.default"><
 div class="elementor-widget-container"><h4 class="elementor-heading-titl
 e elementor-size-default">ca. 18:00 Uhr Treffpunkt Lingnerschloss</h4></
 div></div><div class="elementor-element elementor-element-cfcc3fc elemen
 tor-widget elementor-widget-heading" data-id="cfcc3fc" data-element_type
 ="widget" data-widget_type="heading.default"><div class="elementor-widge
 t-container"><h6 class="elementor-heading-title elementor-size-default">
 Entspanntes Beisammensein mit</h6></div></div><div class="elementor-elem
 ent elementor-element-ae82237 elementor-widget elementor-widget-text-edi
 tor" data-id="ae82237" data-element_type="widget" data-widget_type="text
 -editor.default"><div class="elementor-widget-container"><ul><li>kulinar
 ischen K&ouml;stlichkeiten</li><li>jazzigen Kl&auml;ngen</li><li>Gespr&a
 uml;chen in angenehmer Atmosph&auml;re</li></ul></div></div><div class="
 elementor-element elementor-element-80d8fcc elementor-widget elementor-w
 idget-heading" data-id="80d8fcc" data-element_type="widget" data-widget_
 type="heading.default"><div class="elementor-widget-container"><h6 class
 ="elementor-heading-title elementor-size-default">parallel Ausstellung</
 h6></div></div><div class="elementor-element elementor-element-8061dca e
 lementor-widget elementor-widget-text-editor" data-id="8061dca" data-ele
 ment_type="widget" data-widget_type="text-editor.default"><div class="el
 ementor-widget-container"><p>Pr&auml;sentation von Initiativen, B&uuml;n
 dnissen und Unternehmen in einer Begleitausstellung:</p><ul><li>G&ouml;t
 z G&uuml;nther GmbH IT Service</li><li>MTM Solutions GmbH</li><li>Auktio
 n &amp; Markt AG</li></ul><p>weitere folgen</p></div></div><div class="e
 lementor-element elementor-element-f93e8e1 elementor-widget elementor-wi
 dget-heading" data-id="f93e8e1" data-element_type="widget" data-widget_t
 ype="heading.default"><div class="elementor-widget-container"><h4 class=
 "elementor-heading-title elementor-size-default">ab 22:00 Uhr Veranstalt
 ungsausklang</h4></div></div></div></div></div></section> </BODY></HTML>
END:VEVENT
END:VCALENDAR
